BEGIN:VCALENDAR
VERSION:2.0
PRODID:-//West Marva Church of the Brethren - ECPv6.15.11//NONSGML v1.0//EN
CALSCALE:GREGORIAN
METHOD:PUBLISH
X-ORIGINAL-URL:https://westmarvachurches.org
X-WR-CALDESC:Events for West Marva Church of the Brethren
REFRESH-INTERVAL;VALUE=DURATION:PT1H
X-Robots-Tag:noindex
X-PUBLISHED-TTL:PT1H
BEGIN:VTIMEZONE
TZID:America/New_York
BEGIN:DAYLIGHT
TZOFFSETFROM:-0500
TZOFFSETTO:-0400
TZNAME:EDT
DTSTART:20220313T070000
END:DAYLIGHT
BEGIN:STANDARD
TZOFFSETFROM:-0400
TZOFFSETTO:-0500
TZNAME:EST
DTSTART:20221106T060000
END:STANDARD
BEGIN:DAYLIGHT
TZOFFSETFROM:-0500
TZOFFSETTO:-0400
TZNAME:EDT
DTSTART:20230312T070000
END:DAYLIGHT
BEGIN:STANDARD
TZOFFSETFROM:-0400
TZOFFSETTO:-0500
TZNAME:EST
DTSTART:20231105T060000
END:STANDARD
BEGIN:DAYLIGHT
TZOFFSETFROM:-0500
TZOFFSETTO:-0400
TZNAME:EDT
DTSTART:20240310T070000
END:DAYLIGHT
BEGIN:STANDARD
TZOFFSETFROM:-0400
TZOFFSETTO:-0500
TZNAME:EST
DTSTART:20241103T060000
END:STANDARD
BEGIN:DAYLIGHT
TZOFFSETFROM:-0500
TZOFFSETTO:-0400
TZNAME:EDT
DTSTART:20250309T070000
END:DAYLIGHT
BEGIN:STANDARD
TZOFFSETFROM:-0400
TZOFFSETTO:-0500
TZNAME:EST
DTSTART:20251102T060000
END:STANDARD
END:VTIMEZONE
BEGIN:VEVENT
DTSTART;TZID=America/New_York:20240921T080000
DTEND;TZID=America/New_York:20240921T160000
DTSTAMP:20260423T125652
CREATED:20240509T145032Z
LAST-MODIFIED:20240509T145355Z
UID:1058-1726905600-1726934400@westmarvachurches.org
SUMMARY:District Conference 2024 - "Stand Up for Jesus"
DESCRIPTION:The District Conference Planning and Arrangements Committee met on Thursday\, March 21st to begin planning our 2024 District Conference. The committee decided not to have the Friday evening service this year at District Conference due to requests of last year’s conference attendees. It was decided to incorporate the special music and our guest speaker to the Saturday morning session. We will begin at 8:40 with special music from New Covenant and then will hear from our guest speaker\, Pastor Leah Hileman. Our business sessions will begin around 10:00 a.m. Conference will be held on Saturday\, September 21\, 2024\, at the Moorefield Church of the Brethren\, 115 Clay Street\, Moorefield\, WV with the hopes of ending by 3:45 p.m. With the amount of business items that are scheduled\, we feel this can be accomplished in a one-day session and lower cost and travel time to attend the conference. We hope you will make arrangements to attend! \n  \nRobert D. Combs\, Moderator – (304) 359-0652 or (304) 359-0728\nAllie Crowe\, Moderator Elect – (608) 215-8619
URL:https://westmarvachurches.org/calendar/district-conference-2024/
LOCATION:Moorefield Church of the Brethren\, 115 Clay Street\, Moorefield\, WV\, 26836
ATTACH;FMTTYPE=image/jpeg:https://westmarvachurches.org/wp-content/uploads/2024/05/Capture.jpg
END:VEVENT
BEGIN:VEVENT
DTSTART;TZID=America/New_York:20240504T160000
DTEND;TZID=America/New_York:20240504T200000
DTSTAMP:20260423T125652
CREATED:20240429T130451Z
LAST-MODIFIED:20240429T131421Z
UID:1045-1714838400-1714852800@westmarvachurches.org
SUMMARY:Beaver Run Sing
DESCRIPTION:
URL:https://westmarvachurches.org/calendar/beaver-run-sing/
LOCATION:Beaver Run Church of the Brethren\, 1774 Beaver Run Road\, Burlington\, WV\, 26710\, United States
CATEGORIES:West Marva
ATTACH;FMTTYPE=image/jpeg:https://westmarvachurches.org/wp-content/uploads/2024/04/Beaver-Run-Sing.jpg
END:VEVENT
BEGIN:VEVENT
DTSTART;VALUE=DATE:20230915
DTEND;VALUE=DATE:20230917
DTSTAMP:20260423T125652
CREATED:20230503T134849Z
LAST-MODIFIED:20240509T144848Z
UID:965-1694736000-1694908799@westmarvachurches.org
SUMMARY:District Conference 2023
DESCRIPTION:
URL:https://westmarvachurches.org/calendar/district-conference-2023/
LOCATION:Moorefield Church of the Brethren\, 115 Clay Street\, Moorefield\, WV\, 26836
CATEGORIES:West Marva
ATTACH;FMTTYPE=image/jpeg:https://westmarvachurches.org/wp-content/uploads/2023/05/District-Conference-2023.jpg
END:VEVENT
BEGIN:VEVENT
DTSTART;VALUE=DATE:20230817
DTEND;VALUE=DATE:20230819
DTSTAMP:20260423T125652
CREATED:20230502T194604Z
LAST-MODIFIED:20230502T194901Z
UID:959-1692230400-1692403199@westmarvachurches.org
SUMMARY:Woman's Camp
DESCRIPTION:
URL:https://westmarvachurches.org/calendar/womans-camp/
LOCATION:Camp Galiliee\, 409 Camp Galilee Rd\, Terra Alta\, WV\, 26764
CATEGORIES:Camp Galilee
ATTACH;FMTTYPE=image/jpeg:https://westmarvachurches.org/wp-content/uploads/2021/05/Camp-Galilee.jpg
ORGANIZER;CN="Elisabeth Harold%2C Camp Manager":MAILTO:ejthorne12@gmail.com
END:VEVENT
BEGIN:VEVENT
DTSTART;VALUE=DATE:20230729
DTEND;VALUE=DATE:20230730
DTSTAMP:20260423T125652
CREATED:20230501T193655Z
LAST-MODIFIED:20230505T171147Z
UID:923-1690588800-1690675199@westmarvachurches.org
SUMMARY:Worship in the Park
DESCRIPTION:Hey Group! I am the pastor of the Westernport Church of the Brethren. On top of being the pastor\, I am also the vice chair for our district board and chair for our district spiritual growth committee. Our committee has decided to do a worship in the park July 29 in Westernport. This worship in the park will have a free-will offering and potential bake sale where funds will be distributed between Brethren Disaster Relief\, Ukraine Humanitarian Fund and Samaritan’s Purse. I am looking for individuals and or groups to perform. Groups should prepare 3-4 songs Individuals 2-3. Please let me know if you have a group willing to perform and participate. More details to follow.
URL:https://westmarvachurches.org/calendar/worship-in-the-park/
LOCATION:Creekside Park\, Westernport\, MD\, 21562
CATEGORIES:West Marva
ATTACH;FMTTYPE=image/jpeg:https://westmarvachurches.org/wp-content/uploads/2023/05/thumbnail_Paradise-in-the-Valley.jpg
ORGANIZER;CN="Allie Crowe":MAILTO:westernportcob@gmail.com
END:VEVENT
BEGIN:VEVENT
DTSTART;VALUE=DATE:20230723
DTEND;VALUE=DATE:20230729
DTSTAMP:20260423T125652
CREATED:20210505T234412Z
LAST-MODIFIED:20230502T193736Z
UID:742-1690070400-1690588799@westmarvachurches.org
SUMMARY:Junior Camp
DESCRIPTION:
URL:https://westmarvachurches.org/calendar/junior-camp-2/
LOCATION:Camp Galiliee\, 409 Camp Galilee Rd\, Terra Alta\, WV\, 26764
CATEGORIES:Camp Galilee
ATTACH;FMTTYPE=image/jpeg:https://westmarvachurches.org/wp-content/uploads/2021/05/Camp-Galilee.jpg
ORGANIZER;CN="Elisabeth Harold%2C Camp Manager":MAILTO:ejthorne12@gmail.com
END:VEVENT
BEGIN:VEVENT
DTSTART;VALUE=DATE:20230716
DTEND;VALUE=DATE:20230723
DTSTAMP:20260423T125652
CREATED:20210505T234345Z
LAST-MODIFIED:20230502T194022Z
UID:741-1689465600-1690070399@westmarvachurches.org
SUMMARY:Jr. High Camp
DESCRIPTION:
URL:https://westmarvachurches.org/calendar/jr-high-camp-2/
LOCATION:Camp Galiliee\, 409 Camp Galilee Rd\, Terra Alta\, WV\, 26764
CATEGORIES:Camp Galilee
ATTACH;FMTTYPE=image/jpeg:https://westmarvachurches.org/wp-content/uploads/2021/05/Camp-Galilee.jpg
ORGANIZER;CN="Elisabeth Harold%2C Camp Manager":MAILTO:ejthorne12@gmail.com
END:VEVENT
BEGIN:VEVENT
DTSTART;VALUE=DATE:20230709
DTEND;VALUE=DATE:20230716
DTSTAMP:20260423T125652
CREATED:20210505T234312Z
LAST-MODIFIED:20230502T194007Z
UID:740-1688860800-1689465599@westmarvachurches.org
SUMMARY:Youth Camp
DESCRIPTION:
URL:https://westmarvachurches.org/calendar/youth-camp-2/
LOCATION:Camp Galiliee\, 409 Camp Galilee Rd\, Terra Alta\, WV\, 26764
CATEGORIES:Camp Galilee
ATTACH;FMTTYPE=image/jpeg:https://westmarvachurches.org/wp-content/uploads/2021/05/Camp-Galilee.jpg
ORGANIZER;CN="Elisabeth Harold%2C Camp Manager":MAILTO:ejthorne12@gmail.com
END:VEVENT
BEGIN:VEVENT
DTSTART;VALUE=DATE:20230707
DTEND;VALUE=DATE:20230710
DTSTAMP:20260423T125652
CREATED:20210505T234238Z
LAST-MODIFIED:20230502T194105Z
UID:739-1688688000-1688947199@westmarvachurches.org
SUMMARY:Primary Camp
DESCRIPTION:
URL:https://westmarvachurches.org/calendar/primary-camp-2/
LOCATION:Camp Galiliee\, 409 Camp Galilee Rd\, Terra Alta\, WV\, 26764
CATEGORIES:Camp Galilee
ATTACH;FMTTYPE=image/jpeg:https://westmarvachurches.org/wp-content/uploads/2021/05/Camp-Galilee.jpg
ORGANIZER;CN="Elisabeth Harold%2C Camp Manager":MAILTO:ejthorne12@gmail.com
END:VEVENT
BEGIN:VEVENT
DTSTART;VALUE=DATE:20230510
DTEND;VALUE=DATE:20230511
DTSTAMP:20260423T125652
CREATED:20230502T163041Z
LAST-MODIFIED:20230502T191940Z
UID:745-1683676800-1683763199@westmarvachurches.org
SUMMARY:Women’s Rally
DESCRIPTION:Please join us for a day of fellowship and exploring our spiritual gifts. \nOur guest speaker will be Lynda Masters. Lynda is pastor of the Pisgah Methodist Church. \nRegistration will be from 9:00 – 9:30 a.m. with refreshments being served at this time. \nWe will be collecting kits and/or donations for Church World Service. \nIf you plan to attend\, as a courtesy to our host church\, please call Wendi Benson at 304-379- 9161 by May 1st so that they can plan for the luncheon.
URL:https://westmarvachurches.org/calendar/womens-rally/
LOCATION:Shady Grove Covenant Brethren Church\, 21 Shady Grove Road\, Bruceton Mills\, WV\, 26525\, United States
CATEGORIES:West Marva
ATTACH;FMTTYPE=image/jpeg:https://westmarvachurches.org/wp-content/uploads/2023/05/Rally.jpg
END:VEVENT
END:VCALENDAR